BEGIN:VCALENDAR
VERSION:2.0
PRODID:-//ChamberMaster//Event Calendar 2.0//EN
METHOD:PUBLISH
X-PUBLISHED-TTL:P3D
REFRESH-INTERVAL:P3D
CALSCALE:GREGORIAN
BEGIN:VEVENT
DTSTART:20150123T133000Z
DTEND:20150123T150000Z
X-MICROSOFT-CDO-ALLDAYEVENT:FALSE
SUMMARY:Legislative Reception
DESCRIPTION:An excellent opportunity to talk to elected officials about local\, state and federal issues affecting businesses. Take advantage of this event and make connections with these leaders. A light breakfast will be served.
X-ALT-DESC;FMTTYPE=text/html:An excellent opportunity to talk to elected officials about local\, state and federal issues affecting businesses. Take advantage of this event and make connections with these leaders. A light breakfast will be served.
LOCATION:The Courtyards of Andover\, 13545 Martin Street NW Andover\, MN 55304
UID:e.380.152154
SEQUENCE:3
DTSTAMP:20260423T144321Z
URL:http://members.metronorthchamber.org/events/details/legislative-reception-01-23-2015-152154
END:VEVENT

END:VCALENDAR
