BEGIN:VCALENDAR
VERSION:2.0
PRODID:-//ChamberMaster//Event Calendar 2.0//EN
METHOD:PUBLISH
X-PUBLISHED-TTL:P3D
REFRESH-INTERVAL:P3D
CALSCALE:GREGORIAN
BEGIN:VEVENT
DTSTART:20120927T200000Z
DTEND:20120927T230000Z
X-MICROSOFT-CDO-ALLDAYEVENT:FALSE
SUMMARY:Lee Carlson Center Open House
DESCRIPTION:You're invited to visit Lee Carlson Center on Thursday\, September 27th from 3-6pm for our open house and learn more about the work we do with youth and families.\n\n\n\nClick here for a map to our location.
X-ALT-DESC;FMTTYPE=text/html:<br />\nYou&#39\;re invited to visit Lee Carlson Center on Thursday\, September 27th from 3-6pm for our open house and learn more about the work we do with youth and families.<br />\n<br />\nClick <a href="http://campaign.r20.constantcontact.com/render?llr=6mlsyfeab&amp\;v=001hkrcbzQb4VUBkqGPlPEc1ZoF6kT0j5OLcwwVMYWunbCGQjxFrHnKK4p78xfP0Zwp-zUkF6DwX65TNfaohK5O4Oiyhe6hdfd3lKFh8TKjlO5ljmm3OrGrFFy3np1GMPY-">here</a> for a map to our location.
LOCATION:7954 University Ave. NE Fridley\, MN 55432
UID:e.380.146658
SEQUENCE:3
DTSTAMP:20260425T125443Z
URL:http://members.metronorthchamber.org/events/details/lee-carlson-center-open-house-09-27-2012-146658
END:VEVENT

END:VCALENDAR
