BEGIN:VCALENDAR
VERSION:2.0
PRODID:-//ChamberMaster//Event Calendar 2.0//EN
METHOD:PUBLISH
X-PUBLISHED-TTL:P3D
REFRESH-INTERVAL:P3D
CALSCALE:GREGORIAN
BEGIN:VEVENT
DTSTART:20121012T220000Z
DTEND:20121013T030000Z
X-MICROSOFT-CDO-ALLDAYEVENT:FALSE
SUMMARY:Lee Carlson Center 5th Annual RoofRaiser
DESCRIPTION:On October 12th\, Lee Carlson Center is holding their 5th Annual RoofRaiser- raising money and awareness for mental health with a focus on their work with youth and families throughout Anoka County. On that date community leaders have agreed to camp overnight in tents on Bob's Produce in Fridley. \n\n\n\nAccording to Lee Carlson Center Marketing/Development Manager\, Patty Halvorson "We are so grateful to Rhonda Sivarajah\, Scott Lund and the many other local leaders who are giving their time (and possibly a warm bed for a night) to help us raise $ and awareness for mental health.  Without donations from individuals and businesses the great work our staff is doing to help kids and families would not be possible.  We hope everyone will donate in advance to their favorite RoofRaiser team and we also encourage everyone to stop by BoB's Produce on Friday\, October 12th after 5pm to support the event.  Food will be provided\, courtesy of BoB's.  Entertainment includes Culver's Jammers\, a local bluegrass band and a performance at 6pm by The 'nMotion Dance Studio Performance Team."\n\n\n\nDonations can be made online at www.leecarlsoncenter.org.
X-ALT-DESC;FMTTYPE=text/html:<span itemprop="description">On October 12th\, Lee Carlson Center is holding their 5th Annual RoofRaiser- raising money and awareness for mental health with a focus on their work with youth and families throughout Anoka County. On that date community leaders have agreed to camp overnight in tents on Bob&#39\;s Produce in Fridley. </span><br />\n<br />\nAccording to Lee Carlson Center Marketing/Development Manager\, Patty Halvorson &ldquo\;We are so grateful to Rhonda Sivarajah\, Scott Lund and the many other local leaders who are giving their time (and possibly a warm bed for a night) to help us raise $ and awareness for mental health.&nbsp\; Without donations from individuals and businesses the great work our staff is doing to help kids and families would not be possible.&nbsp\; We hope everyone will donate in advance to their favorite RoofRaiser team and we also encourage everyone to stop by BoB&rsquo\;s Produce on Friday\, October 12th after 5pm to support the event.&nbsp\; Food will be provided\, courtesy of BoB&rsquo\;s.&nbsp\; Entertainment includes Culver&rsquo\;s Jammers\, a local bluegrass band and a performance at 6pm by The &lsquo\;nMotion Dance Studio Performance Team.&rdquo\;<br />\n<br />\nDonations can be made online at <a href="http://www.leecarlsoncenter.org">www.leecarlsoncenter.org</a>.<br />\n
LOCATION:Bob's Produce Ranch 7620 University Ave NE\, Fridley
UID:e.380.146674
SEQUENCE:3
DTSTAMP:20260425T111503Z
URL:http://members.metronorthchamber.org/events/details/lee-carlson-center-5th-annual-roofraiser-10-12-2012-146674
END:VEVENT

END:VCALENDAR
