BEGIN:VCALENDAR
VERSION:2.0
PRODID:-//ChamberMaster//Event Calendar 2.0//EN
METHOD:PUBLISH
X-PUBLISHED-TTL:P3D
REFRESH-INTERVAL:P3D
CALSCALE:GREGORIAN
BEGIN:VEVENT
DTSTART:20190405T003000Z
DTEND:20190405T033000Z
X-MICROSOFT-CDO-ALLDAYEVENT:FALSE
SUMMARY:Laugh Your Ace Off Comedy Club
DESCRIPTION:Running Aces Casino & Racetrack's Laugh Your Ace Off Comedy Club features national deadliners with credits form Comedy Central\, HBO\, Showtime\, and more!
X-ALT-DESC;FMTTYPE=text/html:<p><span style="color:rgb(51\, 51\, 51)\; font-family:helvetica neue\,serif\; font-size:10.5pt">Running Aces Casino &amp\; Racetrack&#39\;s Laugh Your Ace Off Comedy Club features national deadliners with credits form Comedy Central\, HBO\, Showtime\, and more!&nbsp\;</span></p>\n
LOCATION:Running Aces Casino and Racetrack
UID:e.380.187038
SEQUENCE:3
DTSTAMP:20260420T041508Z
URL:http://members.metronorthchamber.org/events/details/laugh-your-ace-off-comedy-club-04-04-2019-187038
END:VEVENT

END:VCALENDAR
