BEGIN:VCALENDAR
VERSION:2.0
PRODID:-//ChamberMaster//Event Calendar 2.0//EN
METHOD:PUBLISH
X-PUBLISHED-TTL:P3D
REFRESH-INTERVAL:P3D
CALSCALE:GREGORIAN
BEGIN:VEVENT
DTSTART:20150124T133000Z
DTEND:20150124T140000Z
X-MICROSOFT-CDO-ALLDAYEVENT:FALSE
SUMMARY:Latin Dance Fitness!
DESCRIPTION:Latin Dance Fitness Workout!  Come enjoy a latin style workout - FREE!
X-ALT-DESC;FMTTYPE=text/html:Latin Dance Fitness Workout! &nbsp\;Come enjoy a latin style workout - FREE!
LOCATION:Hosted by The Nutrition Hub - 7880 University Avenue\, Fridley
UID:e.380.154561
SEQUENCE:3
DTSTAMP:20260423T144910Z
URL:http://members.metronorthchamber.org/events/details/latin-dance-fitness-01-24-2015-154561
END:VEVENT

END:VCALENDAR
