BEGIN:VCALENDAR
VERSION:2.0
PRODID:-//ChamberMaster//Event Calendar 2.0//EN
METHOD:PUBLISH
X-PUBLISHED-TTL:P3D
REFRESH-INTERVAL:P3D
CALSCALE:GREGORIAN
BEGIN:VEVENT
DTSTART:20180518T230000Z
DTEND:20180519T013000Z
X-MICROSOFT-CDO-ALLDAYEVENT:FALSE
SUMMARY:Laser Tag
DESCRIPTION:Ultimate Laser Tag - all ages\n\n\nFriday\, May 18\, 2018\nYou've never experienced Laser Tag quite like this! Minnesota-based company Virtual Combat takes Laser Tag to the next level\, and now you can experience the adrenaline rush right here in Fridley. Fridley Recreation presents this exciting new pop-up event. Up to 12 players compete at once during a 5-7 minute session in a variety of game styles. Will it be Highlander\, assassin-style with one person as ultimate victor? Or Base Control where teams battle for control of each other's base? This obstacle course style\, outdoor zone provides intense adventure. No 2 games will be the same.
X-ALT-DESC;FMTTYPE=text/html:<h2 id="ctl00_ctl00_MainContent_ModuleContent_ctl00_ctl03_eventTitle" style="box-sizing: content-box\; margin: 0px 0px 3px\; padding: 0px 50px 0px 0px\; border: 0px\; outline: 0px\; font-size: 15pt\; font-family: inherit\; vertical-align: baseline\;"><span itemprop="name" style="box-sizing: content-box\; margin: 0px\; padding: 0px\; border: 0px\; font-size: 14.4px\; font-family: Arial\; vertical-align: baseline\; outline: 0px\; color: rgb(51\, 51\, 51)\; background-color: rgb(255\, 255\, 255)\;">Ultimate Laser Tag - all ages</span></h2>\n\n<div class="detailDateDesc" style="box-sizing: content-box\; margin: 0px\; padding: 0px 0px 0px 60px\; border: 0px\; outline: 0px\; font-size: 14.4px\; font-family: Arial\; vertical-align: baseline\; background: url(&quot\;/common/images/Calendar/CalendarModuleIconSmall.png&quot\;) 0px 5px no-repeat rgb(255\, 255\, 255)\; min-height: 55px\; color: rgb(51\, 51\, 51)\;">\n<h3 id="ctl00_ctl00_MainContent_ModuleContent_ctl00_ctl03_eventDate" style="box-sizing: content-box\; margin: 0px\; padding: 0px\; border: 0px\; outline: 0px\; font-size: 1em\; font-family: inherit\; vertical-align: baseline\; color: rgb(140\, 175\, 58)\;">Friday\, May 18\, 2018</h3>\nYou&rsquo\;ve never experienced Laser Tag quite like this! Minnesota-based company Virtual Combat takes Laser Tag to the next level\, and now you can experience the adrenaline rush right here in Fridley. Fridley Recreation presents this exciting new pop-up event. Up to 12 players compete at once during a 5-7 minute session in a variety of game styles. Will it be Highlander\, assassin-style with one person as ultimate victor? Or Base Control where teams battle for control of each other&rsquo\;s base? This obstacle course style\, outdoor zone provides intense adventure. No 2 games will be the same.</div>\n
LOCATION:
UID:e.380.184881
SEQUENCE:3
DTSTAMP:20260420T225030Z
URL:http://members.metronorthchamber.org/events/details/laser-tag-184881
END:VEVENT

END:VCALENDAR
