BEGIN:VCALENDAR
VERSION:2.0
PRODID:-//ChamberMaster//Event Calendar 2.0//EN
METHOD:PUBLISH
X-PUBLISHED-TTL:P3D
REFRESH-INTERVAL:P3D
CALSCALE:GREGORIAN
BEGIN:VEVENT
DTSTART:20130914T160000Z
DTEND:20130914T190000Z
X-MICROSOFT-CDO-ALLDAYEVENT:FALSE
SUMMARY:Landmark of Fridley 1 Year Anniversary Celebration
DESCRIPTION:Come PIG OUT at The Landmark of Fridley!\n\n\n\nYou are formally invited to join us for a BBQ with a pig roast & live music as we celebrate our 1 year anniversary! ALL ARE WELCOME.
X-ALT-DESC;FMTTYPE=text/html:Come PIG OUT at The Landmark of Fridley!<br />\n<br />\nYou are formally invited to join us for a BBQ with a pig roast &amp\; live music as we celebrate our 1 year anniversary! ALL ARE WELCOME.
LOCATION:The Landmark of Fridley 6490 Central Ave NE Fridley\, MN 55432
UID:e.380.149498
SEQUENCE:3
DTSTAMP:20260424T162534Z
URL:http://members.metronorthchamber.org/events/details/landmark-of-fridley-1-year-anniversary-celebration-09-14-2013-149498
END:VEVENT

END:VCALENDAR
