BEGIN:VCALENDAR
VERSION:2.0
PRODID:-//ChamberMaster//Event Calendar 2.0//EN
METHOD:PUBLISH
X-PUBLISHED-TTL:P3D
REFRESH-INTERVAL:P3D
CALSCALE:GREGORIAN
BEGIN:VEVENT
DTSTART:20191108T000000Z
DTEND:20191108T020000Z
X-MICROSOFT-CDO-ALLDAYEVENT:FALSE
SUMMARY:Crystal House boutique Ladies Night Out - Essential Oils and Hormones Class
DESCRIPTION:Ladies are you hormonally challenged? Do you have trouble sleeping?  Do you lack energy\, are you loosing hair or have low libido? Let's Talk! Join us for a fun and super informative evening aimed at getting you feeling like yourself again!  There will be giveaways and light refreshments! Tickets are FREE! Please register at www.TicketLeap.com and search for "Ladies Night Out! Crystal House Boutique" to attend as space is limited!
X-ALT-DESC;FMTTYPE=text/html:Ladies are you hormonally challenged? Do you have trouble sleeping? &nbsp\;Do you lack energy\, are you loosing hair or have low libido? Let&#39\;s Talk! Join us for a fun and super informative evening aimed at getting you feeling like yourself again! &nbsp\;There will be giveaways and light refreshments! Tickets are FREE! Please register at www.TicketLeap.com and search for &quot\;Ladies Night Out! Crystal House Boutique&quot\; to attend as space is limited! &nbsp\;
LOCATION:Crystal House boutique 455 - 99th Ave. NW Suite 230 Coon Rapids\, MN. 55433
UID:e.380.191415
SEQUENCE:3
DTSTAMP:20260419T161608Z
URL:http://members.metronorthchamber.org/events/details/ladies-night-out-essential-oils-and-hormones-class-191415
END:VEVENT

END:VCALENDAR
