BEGIN:VCALENDAR
VERSION:2.0
PRODID:-//ChamberMaster//Event Calendar 2.0//EN
METHOD:PUBLISH
X-PUBLISHED-TTL:P3D
REFRESH-INTERVAL:P3D
CALSCALE:GREGORIAN
BEGIN:VEVENT
DTSTART:20141212T230000Z
DTEND:20141213T020000Z
X-MICROSOFT-CDO-ALLDAYEVENT:FALSE
SUMMARY:Ladies Night
DESCRIPTION:Looking for a great evening out with your favorite ladies? Join Blaine Family Chiropractic P.A. for a Ladies Night event. Vendors will include Mary Kay\, Wild Tree\, Norwex\, Arbonne\, Jamberry Nails\, Young Living\, Younique\, Stella & Dot and more :)\n\n\n\nPlease bring any friends and family you wish!!\n\n\n\nAlso\, if you are a distributor of a product that could benefit from this event\, please message me!
X-ALT-DESC;FMTTYPE=text/html:<span style="color: rgb(20\, 24\, 35)\; line-height: 17.92px\; font-family: Helvetica\, Arial\, &quot\;lucida grande&quot\;\, tahoma\, verdana\, arial\, sans-serif\; font-size: 14px\;">Looking for a great evening out with your favorite ladies? Join&nbsp\;</span><a data-hovercard="/ajax/hovercard/page.php?id=299310853606207" href="https://www.facebook.com/Blainefamilychiropractic" style="color: rgb(59\, 89\, 152)\; line-height: 17.92px\; font-family: Helvetica\, Arial\, &quot\;lucida grande&quot\;\, tahoma\, verdana\, arial\, sans-serif\; font-size: 14px\; text-decoration: none\; cursor: pointer\;">Blaine Family Chiropractic P.A.</a><span style="color: rgb(20\, 24\, 35)\; line-height: 17.92px\; font-family: Helvetica\, Arial\, &quot\;lucida grande&quot\;\, tahoma\, verdana\, arial\, sans-serif\; font-size: 14px\;">&nbsp\;for a Ladies Night event. Vendors will include Mary Kay\, Wild Tree\, Norwex\, Arbonne\, Jamberry Nails\, Young Living\, Younique\, Stella &amp\; Dot and more :)</span><br style="color: rgb(20\, 24\, 35)\; line-height: 17.92px\; font-family: Helvetica\, Arial\, &quot\;lucida grande&quot\;\, tahoma\, verdana\, arial\, sans-serif\; font-size: 14px\;" />\n<br style="color: rgb(20\, 24\, 35)\; line-height: 17.92px\; font-family: Helvetica\, Arial\, &quot\;lucida grande&quot\;\, tahoma\, verdana\, arial\, sans-serif\; font-size: 14px\;" />\n<span style="color: rgb(20\, 24\, 35)\; line-height: 17.92px\; font-family: Helvetica\, Arial\, &quot\;lucida grande&quot\;\, tahoma\, verdana\, arial\, sans-serif\; font-size: 14px\;">Please bring any friends and family you wish!!</span><br style="color: rgb(20\, 24\, 35)\; line-height: 17.92px\; font-family: Helvetica\, Arial\, &quot\;lucida grande&quot\;\, tahoma\, verdana\, arial\, sans-serif\; font-size: 14px\;" />\n<br style="color: rgb(20\, 24\, 35)\; line-height: 17.92px\; font-family: Helvetica\, Arial\, &quot\;lucida grande&quot\;\, tahoma\, verdana\, arial\, sans-serif\; font-size: 14px\;" />\n<span style="color: rgb(20\, 24\, 35)\; line-height: 17.92px\; font-family: Helvetica\, Arial\, &quot\;lucida grande&quot\;\, tahoma\, verdana\, arial\, sans-serif\; font-size: 14px\;">Also\, if you are a distributor of a product that could benefit from this event\, please message me!</span>
LOCATION:Blaine Family Chiropractic 10950 Club West Parkway\, Suite 110 Blaine\, MN 55449
UID:e.380.152121
SEQUENCE:3
DTSTAMP:20260423T173650Z
URL:http://members.metronorthchamber.org/events/details/ladies-night-12-12-2014-152121
END:VEVENT

END:VCALENDAR
