BEGIN:VCALENDAR
VERSION:2.0
PRODID:-//ChamberMaster//Event Calendar 2.0//EN
METHOD:PUBLISH
X-PUBLISHED-TTL:P3D
REFRESH-INTERVAL:P3D
CALSCALE:GREGORIAN
BEGIN:VEVENT
DTSTART:20150508T220000Z
DTEND:20150509T010000Z
X-MICROSOFT-CDO-ALLDAYEVENT:FALSE
SUMMARY:LADIES NIGHT
DESCRIPTION:Join Blaine Family Chiropractic for a special Ladies Night\, Friday May 8\, 5 pm - 8 pm.\n\n\n\nAdmission Fee: A smile :)\n\n\n\nPlease bring any lovely ladies looking to have an enjoyable evening out and about.  Contact Erin with any questions.\n\n\n\nVendors Include: ARBONNE\, BOOMERANG\, DOVE CHOCOLATE TASTING\, ITWORKS\, JAMBERRY NAILS\, MARY KAY\, NORWEX\, RODAN + FIELDS\, THREADS WORLDWIDE\, WINE TASTING\, YOUNG LIVING\, YOUNIQUE
X-ALT-DESC;FMTTYPE=text/html:<span style="background-color:rgb(255\, 255\, 255)\; color:rgb(34\, 34\, 34)\; font-family:arial\,sans-serif\; font-size:small">Join Blaine Family Chiropractic for a special Ladies Night\, Friday May 8\, 5 pm - 8 pm.<br />\n<br />\nAdmission Fee: A smile :)<br />\n<br />\nPlease bring any lovely ladies looking to have an enjoyable evening out and about. &nbsp\;Contact Erin with any questions.<br />\n<br />\nVendors Include:&nbsp\;ARBONNE\, BOOMERANG\, DOVE CHOCOLATE TASTING\, ITWORKS\, JAMBERRY NAILS\, MARY KAY\, NORWEX\, RODAN + FIELDS\, THREADS WORLDWIDE\, WINE TASTING\, YOUNG LIVING\, YOUNIQUE</span>
LOCATION:Blaine Family Chiropractic\, 10950 Club West Parkway\, Suite 110\, Blaine\, MN 55449
UID:e.380.157335
SEQUENCE:3
DTSTAMP:20260423T083606Z
URL:http://members.metronorthchamber.org/events/details/ladies-night-05-08-2015-157335
END:VEVENT

END:VCALENDAR
