BEGIN:VCALENDAR
VERSION:2.0
PRODID:-//ChamberMaster//Event Calendar 2.0//EN
METHOD:PUBLISH
X-PUBLISHED-TTL:P3D
REFRESH-INTERVAL:P3D
CALSCALE:GREGORIAN
BEGIN:VEVENT
DTSTART;VALUE=DATE:20190902
DTEND;VALUE=DATE:20190903
TRANSP:TRANSPARENT
X-MICROSOFT-CDO-ALLDAYEVENT:TRUE
SUMMARY:Labor Day Holiday - Chamber Office Closed
DESCRIPTION:Click here to edit...
X-ALT-DESC;FMTTYPE=text/html:<div style="COLOR: gray">Click here to edit...</div>\n
LOCATION:Click here to edit...
UID:e.380.191015
SEQUENCE:3
DTSTAMP:20260419T193355Z
URL:http://members.metronorthchamber.org/events/details/labor-day-holiday-chamber-office-closed-191015
END:VEVENT

END:VCALENDAR
