BEGIN:VCALENDAR
VERSION:2.0
PRODID:-//ChamberMaster//Event Calendar 2.0//EN
METHOD:PUBLISH
X-PUBLISHED-TTL:P3D
REFRESH-INTERVAL:P3D
CALSCALE:GREGORIAN
BEGIN:VEVENT
DTSTART;VALUE=DATE:20120903
DTEND;VALUE=DATE:20120904
TRANSP:TRANSPARENT
X-MICROSOFT-CDO-ALLDAYEVENT:TRUE
SUMMARY:Labor Day Holiday - Chamber Office Closed
DESCRIPTION:Click here to edit...
X-ALT-DESC;FMTTYPE=text/html:<DIV style="COLOR: gray">Click here to edit...</DIV>
LOCATION:Click here to edit...
UID:e.380.146212
SEQUENCE:3
DTSTAMP:20260425T113815Z
URL:http://members.metronorthchamber.org/events/details/labor-day-holiday-chamber-office-closed-09-03-2012-146212
END:VEVENT

END:VCALENDAR
