BEGIN:VCALENDAR
VERSION:2.0
PRODID:-//ChamberMaster//Event Calendar 2.0//EN
METHOD:PUBLISH
X-PUBLISHED-TTL:P3D
REFRESH-INTERVAL:P3D
CALSCALE:GREGORIAN
BEGIN:VEVENT
DTSTART:20180915T170000Z
DTEND:20180915T210000Z
X-MICROSOFT-CDO-ALLDAYEVENT:FALSE
SUMMARY:La Vintage LaRee is having a "Tent Sale"
DESCRIPTION:Simple Pleasures....\n\nFurniture\, Accessories & Gifts
X-ALT-DESC;FMTTYPE=text/html:Simple Pleasures....<br />\nFurniture\, Accessories &amp\; Gifts
LOCATION:2 K South Pine Drive Circle Pines\, MN 55014
UID:e.380.186970
SEQUENCE:3
DTSTAMP:20260420T152805Z
URL:http://members.metronorthchamber.org/events/details/la-vintage-laree-is-having-a-tent-sale-186970
END:VEVENT

END:VCALENDAR
