BEGIN:VCALENDAR
VERSION:2.0
PRODID:-//ChamberMaster//Event Calendar 2.0//EN
METHOD:PUBLISH
X-PUBLISHED-TTL:P3D
REFRESH-INTERVAL:P3D
CALSCALE:GREGORIAN
BEGIN:VEVENT
DTSTART:20180426T160000Z
DTEND:20180426T220000Z
X-MICROSOFT-CDO-ALLDAYEVENT:FALSE
SUMMARY:Kwik Trip Hiring Event
DESCRIPTION:Kwik Trip Hiring Event!\n\nWe will be holding interviews for the following positions:\n\n\n	Retail Sales Associate\n	Assistant Manager\n	Kitchen Manager\n\n\n$13.00/hr for Retail Sales Associate\, $16.00/hr for Assitant Manager\, $15.00/hr for Kitchen Manager\n\n\nWe will be hiring for the following location:\n\n\n	Kwik Trip 2 NEW STORES!!\, Blaine\, None 55014\n\n\n\nRequirements\n\n\n	Have fun\, learn and enjoy your job!\n\n\nWhat is a Hiring Event?\n\nThink of it like a job fair\, but for one company and more personal. Hiring events are a great way for us to fill a large number of roles quickly. Hiring is a human process\, and we would like to meet you to see if you're a fit!\n\nHow to prepare\n\nThe entire interview process will be 1 hr. Completing our online application prior to the event is strongly encouraged and will speed up the process.\n\nWhat to wear\n\nDress code is Casual (come as you are\, but please be presentable).\n\nAbout the Company\n\n\n	40% Profit Sharing Advancement within Kwik trip as we are growing fast!\n	401k Health\, Dental\, Vision\, Life Insurance and HSA
X-ALT-DESC;FMTTYPE=text/html:<h1 class="event" style="box-sizing: border-box\; font-size: 23px\; margin: 1em 0px 0.5em\; font-family: &quot\;Helvetica Neue&quot\;\, Helvetica\, Arial\, &quot\;Liberation Sans&quot\;\, Roboto\, Noto\, sans-serif\; line-height: 1.2\; letter-spacing: 0.64px\;">Kwik Trip Hiring Event!</h1>\n\n<h4 style="box-sizing: border-box\; font-family: &quot\;Helvetica Neue&quot\;\, Helvetica\, Arial\, &quot\;Liberation Sans&quot\;\, Roboto\, Noto\, sans-serif\; line-height: 1.2\; margin-top: 20px\; margin-bottom: 0.5em\; font-size: 18px\; letter-spacing: 0.64px\;">We will be holding interviews for the following positions:</h4>\n\n<ul style="box-sizing: border-box\; margin-top: 0px\; margin-bottom: 12px\; padding-left: 20px\; line-height: 1.85\; color: rgb(75\, 75\, 75)\; font-family: AvenirNext\, Arial\, sans-serif\; font-size: 16px\; letter-spacing: 0.64px\;">\n	<li style="box-sizing: border-box\; padding-left: 20px\;">Retail Sales Associate</li>\n	<li style="box-sizing: border-box\; padding-left: 20px\;">Assistant Manager</li>\n	<li style="box-sizing: border-box\; padding-left: 20px\;">Kitchen Manager</li>\n</ul>\n\n<div class="event-detail" style="box-sizing: border-box\; margin-bottom: 4px\; color: rgb(75\, 75\, 75)\; font-family: AvenirNext\, Arial\, sans-serif\; font-size: 16px\; letter-spacing: 0.64px\;">$13.00/hr for Retail Sales Associate\, $16.00/hr for Assitant Manager\, $15.00/hr for Kitchen Manager</div>\n\n<div class="event-detail" style="box-sizing: border-box\; margin-bottom: 4px\; color: rgb(75\, 75\, 75)\; font-family: AvenirNext\, Arial\, sans-serif\; font-size: 16px\; letter-spacing: 0.64px\;">\n<h4 style="box-sizing: border-box\; font-family: &quot\;Helvetica Neue&quot\;\, Helvetica\, Arial\, &quot\;Liberation Sans&quot\;\, Roboto\, Noto\, sans-serif\; line-height: 1.2\; color: rgb(0\, 0\, 0)\; margin-top: 20px\; margin-bottom: 0.5em\; font-size: 18px\;">We will be hiring for the following location:</h4>\n\n<ul style="box-sizing: border-box\; margin-top: 0px\; margin-bottom: 12px\; padding-left: 20px\; line-height: 1.85\;">\n	<li style="box-sizing: border-box\; padding-left: 20px\;">Kwik Trip 2 NEW STORES!!\, Blaine\, None 55014</li>\n</ul>\n</div>\n\n<h4 style="box-sizing: border-box\; font-family: &quot\;Helvetica Neue&quot\;\, Helvetica\, Arial\, &quot\;Liberation Sans&quot\;\, Roboto\, Noto\, sans-serif\; line-height: 1.2\; margin-top: 20px\; margin-bottom: 0.5em\; font-size: 18px\; letter-spacing: 0.64px\;">Requirements</h4>\n\n<ul style="box-sizing: border-box\; margin-top: 0px\; margin-bottom: 12px\; padding-left: 20px\; line-height: 1.85\; color: rgb(75\, 75\, 75)\; font-family: AvenirNext\, Arial\, sans-serif\; font-size: 16px\; letter-spacing: 0.64px\;">\n	<li style="box-sizing: border-box\; padding-left: 20px\;">Have fun\, learn and enjoy your job!</li>\n</ul>\n\n<h4 style="box-sizing: border-box\; font-family: &quot\;Helvetica Neue&quot\;\, Helvetica\, Arial\, &quot\;Liberation Sans&quot\;\, Roboto\, Noto\, sans-serif\; line-height: 1.2\; margin-top: 20px\; margin-bottom: 0.5em\; font-size: 18px\; letter-spacing: 0.64px\;">What is a Hiring Event?</h4>\n\n<p style="box-sizing: border-box\; margin: 0px 0px 12px\; color: rgb(75\, 75\, 75)\; font-family: AvenirNext\, Arial\, sans-serif\; font-size: 16px\; letter-spacing: 0.64px\;">Think of it like a job fair\, but for one company and more personal. Hiring events are a great way for us to fill a large number of roles quickly. Hiring is a human process\, and we would like to meet you to see if you&rsquo\;re a fit!</p>\n\n<h4 style="box-sizing: border-box\; font-family: &quot\;Helvetica Neue&quot\;\, Helvetica\, Arial\, &quot\;Liberation Sans&quot\;\, Roboto\, Noto\, sans-serif\; line-height: 1.2\; margin-top: 20px\; margin-bottom: 0.5em\; font-size: 18px\; letter-spacing: 0.64px\;">How to prepare</h4>\n\n<p style="box-sizing: border-box\; margin: 0px 0px 12px\; color: rgb(75\, 75\, 75)\; font-family: AvenirNext\, Arial\, sans-serif\; font-size: 16px\; letter-spacing: 0.64px\;">The entire interview process will be 1 hr. Completing our&nbsp\;<a href="https://jobs.kwiktrip.com/" style="box-sizing: border-box\; color: rgb(8\, 95\, 247)\; text-decoration-line: none\;" target="_blank">online application</a>&nbsp\;prior to the event is strongly encouraged and will speed up the process.</p>\n\n<h4 style="box-sizing: border-box\; font-family: &quot\;Helvetica Neue&quot\;\, Helvetica\, Arial\, &quot\;Liberation Sans&quot\;\, Roboto\, Noto\, sans-serif\; line-height: 1.2\; margin-top: 20px\; margin-bottom: 0.5em\; font-size: 18px\; letter-spacing: 0.64px\;">What to wear</h4>\n\n<p style="box-sizing: border-box\; margin: 0px 0px 12px\; color: rgb(75\, 75\, 75)\; font-family: AvenirNext\, Arial\, sans-serif\; font-size: 16px\; letter-spacing: 0.64px\;">Dress code is Casual (come as you are\, but please be presentable).</p>\n\n<h4 style="box-sizing: border-box\; font-family: &quot\;Helvetica Neue&quot\;\, Helvetica\, Arial\, &quot\;Liberation Sans&quot\;\, Roboto\, Noto\, sans-serif\; line-height: 1.2\; margin-top: 20px\; margin-bottom: 0.5em\; font-size: 18px\; letter-spacing: 0.64px\;">About the Company</h4>\n\n<ul style="box-sizing: border-box\; margin-top: 0px\; margin-bottom: 12px\; padding-left: 20px\; line-height: 1.85\; color: rgb(75\, 75\, 75)\; font-family: AvenirNext\, Arial\, sans-serif\; font-size: 16px\; letter-spacing: 0.64px\;">\n	<li style="box-sizing: border-box\; padding-left: 20px\;">40% Profit Sharing Advancement within Kwik trip as we are growing fast!</li>\n	<li style="box-sizing: border-box\; padding-left: 20px\;">401k Health\, Dental\, Vision\, Life Insurance and HSA</li>\n</ul>\n
LOCATION:Hampton Inn 579 Apollo Drive Lino Lakes\, MN 55014
UID:e.380.184800
SEQUENCE:3
DTSTAMP:20260420T230644Z
URL:http://members.metronorthchamber.org/events/details/kwik-trip-hiring-event-184800
END:VEVENT

END:VCALENDAR
