BEGIN:VCALENDAR
VERSION:2.0
PRODID:-//ChamberMaster//Event Calendar 2.0//EN
METHOD:PUBLISH
X-PUBLISHED-TTL:P3D
REFRESH-INTERVAL:P3D
CALSCALE:GREGORIAN
BEGIN:VEVENT
DTSTART:20120808T130000Z
DTEND:20120808T233000Z
X-MICROSOFT-CDO-ALLDAYEVENT:FALSE
SUMMARY:KinderCare Learning Center Open House
DESCRIPTION:The open house offers parents an opportunity to visit KinderCare Learning Centers and learn more about how we care for your child and help them develop.  This is a great time to invite your friends\, neighbors and family to see how we make each day nurturing\, educational\, healthy and fun. Come see how your child thrives at KinderCare.
X-ALT-DESC;FMTTYPE=text/html:The open house&nbsp\;offers parents an opportunity to visit KinderCare Learning Centers and learn more about how we care for your child and help them develop.&nbsp\; This is a great time to invite your friends\, neighbors and family to see how we make each day nurturing\, educational\, healthy and fun. Come see how your child thrives at KinderCare.
LOCATION:Blaine KinderCare 10851 Jefferson ST NE Blaine\, MN 55434
UID:e.380.146167
SEQUENCE:3
DTSTAMP:20260425T125057Z
URL:http://members.metronorthchamber.org/events/details/kindercare-learning-center-open-house-08-08-2012-146167
END:VEVENT

END:VCALENDAR
