BEGIN:VCALENDAR
VERSION:2.0
PRODID:-//ChamberMaster//Event Calendar 2.0//EN
METHOD:PUBLISH
X-PUBLISHED-TTL:P3D
REFRESH-INTERVAL:P3D
CALSCALE:GREGORIAN
BEGIN:VEVENT
DTSTART:20121018T230000Z
DTEND:20121019T010000Z
X-MICROSOFT-CDO-ALLDAYEVENT:FALSE
SUMMARY:Key to Wine Riedel "O" Seminar
DESCRIPTION:Key to Wine\n\n	Riedel "O" Seminar\n\n	October 18\, 2012\n\n	6-8pm\n\n	Brunzwick Zone\n\n	Blaine\, MN\n \n\nTake a journey through the world of glasses and senses by tasting the difference that the right glass for the right wine can make.\n\n \n\nCasual becomes sophisticated.\n\n \n\nO is the first varietal specific wine tumbler in history.\n\nO is an innovated take on the casual wine glass for total enjoyment.\n\nO is made from non-lead crystal\, machine blown in Bavaria\, Germany.\n\nO fits into every dishwasher\, making broken stems a thing of the past.\n\n \n\nKey to Wine Glass Set\n\nChardonnay\n\nRiesling\n\nCabernet\n\nPinot Noir\n\nSyrah\n\n\n\nKey to Wine set consists of five glasses and regularly retails for $75.00\n\n \n\n\n	"The effect of these glasses on fine wine is profound. I cannot emphasize enough what a difference they make." ~ Robert M. Parker Jr. The Wine Advocate\n\n	 \n\n	"You will be truly\, wonderfully amazed" ~ Joyce Swanson\, Central Park Liquor\n\n	 \n\n	 \n\n	Must be pre-registered by 9/30/12\n\n	\n\n	$50.00 per person   includes wine samples and appetizers.\n\n	 \n\n	*The glassware is yours to keep!
X-ALT-DESC;FMTTYPE=text/html:<p style="text-align: center">\n	<span style="font-family: tahoma"><span style="font-size: 16px"><strong>Key to Wine</strong></span><br />\n	<span style="font-size: 12px"><span style="font-size: 16px"><span><strong>Riedel &ldquo\;O&rdquo\; Seminar</strong></span></span><br />\n	<span style="font-size: 14px"><span style="font-weight: normal">October 18\, 2012</span><br />\n	<span style="font-weight: normal">6-8pm</span><br />\n	Brunzwick Zone<br />\n	<span style="font-weight: normal">Blaine\, MN</span></span></span></span></p>\n<span style="font-family: tahoma">&nbsp\;<br />\n<span style="font-size: 12px"><span style="font-weight: normal">Take a journey through the world of glasses and senses by tasting the difference that the <em>right</em> glass for the <em>right </em>wine can make.</span><br />\n&nbsp\;<br />\n<span style="color: #333333">Casual becomes sophisticated.</span><br />\n&nbsp\;<br />\n<span style="font-weight: normal">O is the first varietal specific wine tumbler in history.</span><br />\n<span style="font-weight: normal">O is an innovated take on the casual wine glass for total enjoyment.</span><br />\n<span style="font-weight: normal">O is made from non-lead crystal\, machine blown in Bavaria\, Germany.</span><br />\n<span style="font-weight: normal">O fits into every dishwasher\, making broken stems a thing of the past.</span><br />\n&nbsp\;<br />\n<u><span style="color: purple">Key to Wine Glass Set</span></u><br />\n<span style="font-weight: normal"><span style="color: purple">Chardonnay</span></span><br />\n<span style="font-weight: normal"><span style="color: purple">Riesling</span></span><br />\n<span style="font-weight: normal"><span style="color: purple">Cabernet</span></span><br />\n<span style="font-weight: normal"><span style="color: purple">Pinot Noir</span></span><br />\n<span style="font-weight: normal"><span style="color: purple">Syrah</span></span><br />\n<br />\nKey to Wine set consists of five glasses and regularly retails for $75.00<br />\n&nbsp\;</span></span><br />\n<div style="border-right: medium none\; padding-right: 0in\; border-top: medium none\; padding-left: 0in\; padding-bottom: 1pt\; border-left: medium none\; padding-top: 0in\; border-bottom: windowtext 1pt solid">\n	<span style="font-family: tahoma"><span style="font-size: 12px">&ldquo\;The effect of these glasses on fine wine is profound. I cannot emphasize enough what a difference they make.&quot\; ~ <span style="font-weight: normal">Robert M. Parker Jr. The Wine Advocate</span><br />\n	&nbsp\;<br />\n	&ldquo\;You will be truly\, wonderfully amazed&rdquo\; ~ <span style="font-weight: normal">Joyce Swanson\, Central Park Liquor</span><br />\n	&nbsp\;<br />\n	&nbsp\;<br />\n	<span style="color: purple">Must be pre-registered by 9/30/12</span></span><br />\n	<br />\n	<span style="font-size: 12px"><span style="font-weight: normal">$50.00 per person &ndash\; includes wine samples and appetizers</span>.<br />\n	&nbsp\;<br />\n	<span style="color: purple">*The glassware is yours to keep!</span></span><br />\n	&nbsp\;</span></div>\n
LOCATION:Brunswick Zone 11351 Ulysses Street NE Blaine\, MN 55434
UID:e.380.146179
SEQUENCE:3
DTSTAMP:20260425T111649Z
URL:http://members.metronorthchamber.org/events/details/key-to-wine-riedel-o-seminar-10-18-2012-146179
END:VEVENT

END:VCALENDAR
