BEGIN:VCALENDAR
VERSION:2.0
PRODID:-//ChamberMaster//Event Calendar 2.0//EN
METHOD:PUBLISH
X-PUBLISHED-TTL:P3D
REFRESH-INTERVAL:P3D
CALSCALE:GREGORIAN
BEGIN:VEVENT
DTSTART;VALUE=DATE:20160507
DTEND;VALUE=DATE:20160508
TRANSP:TRANSPARENT
X-MICROSOFT-CDO-ALLDAYEVENT:TRUE
SUMMARY:Kentucky Derby At Running Aces
DESCRIPTION:Watch and wager on one of the biggest races of the year! \n\nThe party planning starts now. We're proud to host the best Derby Day event in the state with an electric atmosphere\, food and drink specials\, unmatched wagering services\, and the debut of our Derby Hat Contest!
X-ALT-DESC;FMTTYPE=text/html:Watch and wager on one of the biggest races of the year!&nbsp\;<br />\nThe party planning starts now. We&#39\;re proud to host the best Derby Day event in the state with an electric atmosphere\, food and drink specials\, unmatched wagering services\, and the debut of our Derby Hat Contest!
LOCATION:Running Aces Casino & Racetrack
UID:e.380.167413
SEQUENCE:3
DTSTAMP:20260422T120359Z
URL:http://members.metronorthchamber.org/events/details/kentucky-derby-at-running-aces-05-07-2016-167413
END:VEVENT

END:VCALENDAR
