BEGIN:VCALENDAR
VERSION:2.0
PRODID:-//ChamberMaster//Event Calendar 2.0//EN
METHOD:PUBLISH
X-PUBLISHED-TTL:P3D
REFRESH-INTERVAL:P3D
CALSCALE:GREGORIAN
BEGIN:VEVENT
DTSTART:20170429T170000Z
DTEND:20170429T190000Z
X-MICROSOFT-CDO-ALLDAYEVENT:FALSE
SUMMARY:Keller Williams Open House
DESCRIPTION:The Chris Fritch Team Keller Williams Classic Realty will donate $100 from each successful closing with us to St Jude and the Dylan Witschen Foundation in the client's name FREE of charge.
X-ALT-DESC;FMTTYPE=text/html:The Chris Fritch&nbsp\;Team Keller Williams Classic Realty will donate $100 from each successful closing with us to St Jude and the Dylan Witschen&nbsp\;Foundation in the client&#39\;s name FREE of charge.
LOCATION:404 Elder Circle NW St Michael
UID:e.380.173373
SEQUENCE:3
DTSTAMP:20260421T184326Z
URL:http://members.metronorthchamber.org/events/details/keller-williams-open-house-173373
END:VEVENT

END:VCALENDAR
