BEGIN:VCALENDAR
VERSION:2.0
PRODID:-//ChamberMaster//Event Calendar 2.0//EN
METHOD:PUBLISH
X-PUBLISHED-TTL:P3D
REFRESH-INTERVAL:P3D
CALSCALE:GREGORIAN
BEGIN:VEVENT
DTSTART:20131214T150000Z
DTEND:20131214T190000Z
X-MICROSOFT-CDO-ALLDAYEVENT:FALSE
SUMMARY:Karen's Mary Kay Boutique
DESCRIPTION:You are invited!\n\nKaren's Mary Kay Christmas Boutique.\n\nHoliday shopping made fun and easy.\n\nCome see the latest and greatest in Skin Care and Color Cosmetics.\n\n\n\nDates:\n\nThursday\, December 12\, 2013\n\nTime: 10:00 AM to 6:00 PM\n\n\n\nSaturday\, December 14\, 2013\n\n9:00 AM to 1:00 PM\n\n\n\nPlace:  Karen's Mary Kay Studio\n\n11721 Evergreen Circle NW\n\nCoon Rapids\, MN 55448\n\n\n\nYou are welcome to call in your order 763-754-7758 or shop on line at www.marykay.com/karenhofer 20% of all sales will go to Alexandra House.
X-ALT-DESC;FMTTYPE=text/html:<br />\nYou are invited!<br />\nKaren&#39\;s Mary Kay Christmas Boutique.<br />\nHoliday shopping made fun and easy.<br />\nCome see the latest and greatest in Skin Care and Color Cosmetics.<br />\n<br />\nDates:<br />\nThursday\, December 12\, 2013<br />\nTime: 10:00 AM to 6:00 PM<br />\n<br />\nSaturday\, December 14\, 2013<br />\n9:00 AM to 1:00 PM<br />\n<br />\nPlace:&nbsp\; Karen&#39\;s Mary Kay Studio<br />\n11721 Evergreen Circle NW<br />\nCoon Rapids\, MN 55448<br />\n<br />\nYou are welcome to call in your order 763-754-7758 or shop on line at <u><a href="http://www.marykay.com/karenhofer"><span style="color:#0000ff\;">www.marykay.com/karenhofer</span></a></u> 20% of all sales will go to Alexandra House.
LOCATION:Karen's Mary Kay Studio 11721 Evergreen Circle NW Coon Rapids\, MN 55448
UID:e.380.150013
SEQUENCE:3
DTSTAMP:20260424T111733Z
URL:http://members.metronorthchamber.org/events/details/karen-s-mary-kay-boutique-12-14-2013-150013
END:VEVENT

END:VCALENDAR
