BEGIN:VCALENDAR
VERSION:2.0
PRODID:-//ChamberMaster//Event Calendar 2.0//EN
METHOD:PUBLISH
X-PUBLISHED-TTL:P3D
REFRESH-INTERVAL:P3D
CALSCALE:GREGORIAN
BEGIN:VEVENT
DTSTART:20190216T023000Z
DTEND:20190216T053000Z
X-MICROSOFT-CDO-ALLDAYEVENT:FALSE
SUMMARY:Karaoke & DJ at The Sunset Grille
DESCRIPTION:Karaoke Sunset Style\n\nFriday 8:30pm!\n\n$20 Gift Card for best Cher song 8:30-9:30\n\n$20 Gift Card for best Bob Seger song 9:30-10:30\n\n$20 Gift Card for best Pink song \n\n10:30-11:30\n\n$20 Gift Card for best Metallica song 11:30-12:30\n\n\nCompete for the gift cards or sing a song of your choice just for the fun of it. You can only win one category per night. Each artists song can only be sung once so have a back up song by that artist or group ready.
X-ALT-DESC;FMTTYPE=text/html:<p style="margin: 0px 0px 6px\; font-family: Helvetica\, Arial\, sans-serif\; color: rgb(29\, 33\, 41)\; font-size: 14px\; background-color: rgb(255\, 255\, 255)\;">Karaoke Sunset Style<br />\nFriday 8:30pm!<br />\n$20 Gift Card for best Cher song 8:30-9:30<br />\n$20 Gift Card for best Bob Seger song 9:30-10:30<br />\n$20 Gift Card for best Pink song&nbsp\;<br />\n<span class="text_exposed_show" style="display: inline\; font-family: inherit\;">10:30-11:30<br />\n$20 Gift Card for best Metallica song 11:30-12:30</span></p>\n\n<div class="text_exposed_show" style="display: inline\; font-family: Helvetica\, Arial\, sans-serif\; color: rgb(29\, 33\, 41)\; font-size: 14px\; background-color: rgb(255\, 255\, 255)\;">\n<p style="margin: 0px 0px 6px\; font-family: inherit\;">Compete for the gift cards or sing a song of your choice just for the fun of it. You can only win one category per night. Each artists song can only be sung once so have a back up song by that artist or group ready.</p>\n</div>\n
LOCATION:The Sunset Grill 8466 Hwy. 65 (1.15 mi) Spring Lake Park\, Minnesota 55432
UID:e.380.188444
SEQUENCE:3
DTSTAMP:20260420T074031Z
URL:http://members.metronorthchamber.org/events/details/karaoke-dj-at-the-sunset-grille-188444
END:VEVENT

END:VCALENDAR
