BEGIN:VCALENDAR
VERSION:2.0
PRODID:-//ChamberMaster//Event Calendar 2.0//EN
METHOD:PUBLISH
X-PUBLISHED-TTL:P3D
REFRESH-INTERVAL:P3D
CALSCALE:GREGORIAN
BEGIN:VEVENT
DTSTART;VALUE=DATE:20160701
DTEND;VALUE=DATE:20160801
TRANSP:TRANSPARENT
X-MICROSOFT-CDO-ALLDAYEVENT:TRUE
SUMMARY:July GOTM: Glock 42
DESCRIPTION:July Gun of the Month - Glock 42\n\nSale Price: $409\n\nJuly 1-31\, 2016\, while supplies last.\n\nEnter in store to win a FREE Glock 42!\n\nJuly 2-4   Youth Shoot Free Weekend - Included: 1 FREE target\, FREE eye & ear protection\, FREE lane rental with paying adult\, & rent any range gun for ONLY $5. AGES 10-17\n\nBill's now has Loyalty Cards - Purchase 10 Full Price Lanes\, Recieve the 11th for FREE\n\n\n\nJuly 1-31   Share to win promo - Win a Free pair of Twins tickets & a Free Limo ride!
X-ALT-DESC;FMTTYPE=text/html:<p><span style="font-family:verdana\,geneva\; font-size:12pt"><strong>July Gun of the Month - Glock 42<br />\nSale Price: $409</strong></span></p>\n\n<p><span style="font-family:verdana\,geneva"><span style="font-size:12pt">July 1-31\, 2016\, while supplies last.</span></span></p>\n\n<p><span style="font-family:verdana\,geneva"><span style="font-size:12pt">Enter in store to win a FREE Glock 42!</span></span></p>\n\n<p><span style="font-family:verdana\,geneva"><span style="font-size:12pt"><span style="font-size:12pt"><strong>July 2-4</strong></span></span></span><span style="font-family:verdana\,geneva"><span style="font-size:12pt"><strong><span style="font-size:12pt"><span style="font-size:12pt"><span style="font-size:12pt">&nbsp\;</span></span></span></strong><span style="font-size:12pt"><strong><span style="font-size:12pt"><span style="font-size:12pt">&middot\;&nbsp\;</span></span><span style="font-size:12pt"><span style="font-size:12pt">Youth Shoot Free Weekend - Included: 1 FREE target\, FREE eye &amp\; ear protection\, FREE lane rental with paying adult\, &amp\; rent any range gun for ONLY $5. AGES 10-17</span></span></strong></span></span></span></p>\n\n<p><strong>Bill&#39\;s now has Loyalty Cards - Purchase 10 Full Price Lanes\, Recieve the 11th for FREE<br />\n<br />\nJuly 1-31<span style="font-size:12pt"><span style="font-size:12pt"><span style="font-size:12pt"><strong><span style="font-size:12pt"><span style="font-size:12pt">&nbsp\;<span style="font-size:12pt"><span style="font-size:12pt"><span style="font-size:12pt"><span style="font-size:12pt"><span style="font-size:12pt">&middot\;</span></span><span style="font-size:12pt"><span style="font-size:12pt">&nbsp\;</span></span></span></span></span></span></span></strong></span></span></span>Share to win promo - Win a Free pair of Twins tickets &amp\; a Free Limo ride!</strong></p>\n
LOCATION:All Bill's Gun Shop & Range Locations https://www.billsgs.com/billsgs-locations
UID:e.380.168648
SEQUENCE:3
DTSTAMP:20260422T084626Z
URL:http://members.metronorthchamber.org/events/details/july-gotm-glock-42-07-01-2016-168648
END:VEVENT

END:VCALENDAR
