BEGIN:VCALENDAR
VERSION:2.0
PRODID:-//ChamberMaster//Event Calendar 2.0//EN
METHOD:PUBLISH
X-PUBLISHED-TTL:P3D
REFRESH-INTERVAL:P3D
CALSCALE:GREGORIAN
BEGIN:VEVENT
DTSTART:20111119T153000Z
DTEND:20111119T170000Z
X-MICROSOFT-CDO-ALLDAYEVENT:FALSE
SUMMARY:Juice Plus: The Journey to a Healthy Existence
DESCRIPTION:How does exercise and proper nutrition affect our quality of life?\n\n \n\nWhat is the impact of oxidative stress on aging and chronic disease? \n\n\n\nSaturday\, November 19th \n\nDoors open at 9:30 a.m.  Presentation is from 10:00   11:00 a.m.\n\nFREE TO THE PUBLIC\n\nEmbassySuites Minneapolis Airport\n\n7901 34th Avenue South\n\nBloomington\, MN 55425\n\n952-854-1000\n\n \n\nContact Information:Ester or Melvin 763-421-9039\n\nesterniska@comcast.net\n\n \n\nWhether you are a medical professional\, a coach\, a trainer\, an athlete\, a weekend warrior or someone just interested in a healthy lifestyle\, you won't want to miss this event!
X-ALT-DESC;FMTTYPE=text/html:<span style="font-size: medium"><strong><em><span style="color: #0f243e"><span style="font-family: georgia">How does exercise and proper nutrition affect our quality of life?</span></span></em></strong></span><br />\n&nbsp\;<br />\n<strong><em><span style="color: #0f243e"><span style="font-family: georgia"><span style="font-size: medium">What is the impact of oxidative stress on aging and chronic disease?&nbsp\;</span></span></span></em></strong><br />\n<br />\n<strong><span style="font-size: 16pt"><span style="font-family: georgia">Saturday\, November 19<sup>th</sup> </span></span></strong><br />\n<span style="font-size: 13pt"><span style="font-family: georgia">Doors open at 9:30 a.m.&nbsp\; Presentation is from 10:00 &ndash\; 11:00 a.m.</span></span><br />\n<span style="font-size: 13pt"><span style="color: red"><span style="font-family: georgia">FREE TO THE PUBLIC</span></span></span><br />\n<span style="font-size: 13pt"><span style="color: windowtext"><span style="font-family: georgia">Embassy</span></span></span><span style="font-size: 13pt"><span style="color: windowtext"><span style="font-family: georgia">Suites Minneapolis Airport</span></span></span><br />\n<span style="font-size: 13pt"><span style="color: windowtext"><span style="font-family: georgia">7901 34<sup>th</sup> Avenue South</span></span></span><br />\n<span style="font-size: 13pt"><span style="color: windowtext"><span style="font-family: georgia">Bloomington</span></span></span><span style="font-size: 13pt"><span style="color: windowtext"><span style="font-family: georgia">\, MN 55425</span></span></span><br />\n<span style="font-size: 13pt"><span style="color: windowtext"><span style="font-family: georgia">952-854-1000</span></span></span><br />\n&nbsp\;<br />\n<strong><span style="font-size: 13pt"><span style="font-family: georgia">Contact Information:</span></span></strong><span style="font-size: 13pt"><span style="font-family: georgia">Ester or Melvin 763-421-9039</span></span><br />\n<span style="font-size: 13pt"><span style="font-family: georgia"><a href="mailto:esterniska@comcast.net">esterniska@comcast.net</a></span></span><br />\n&nbsp\;<br />\n<strong><em><span style="font-size: 16pt"><span style="color: #004c00"><span style="font-family: georgia">Whether you are a medical professional\, a coach\, a trainer\, an athlete\, a weekend warrior or someone just interested in a healthy lifestyle\, you won&#39\;t want to miss this event!</span></span></span></em></strong><br />\n
LOCATION:
UID:e.380.142845
SEQUENCE:3
DTSTAMP:20260426T034111Z
URL:http://members.metronorthchamber.org/events/details/juice-plus-the-journey-to-a-healthy-existence-11-19-2011-142845
END:VEVENT

END:VCALENDAR
