BEGIN:VCALENDAR
VERSION:2.0
PRODID:-//ChamberMaster//Event Calendar 2.0//EN
METHOD:PUBLISH
X-PUBLISHED-TTL:P3D
REFRESH-INTERVAL:P3D
CALSCALE:GREGORIAN
BEGIN:VEVENT
DTSTART:20120516T000000Z
DTEND:20120516T010000Z
X-MICROSOFT-CDO-ALLDAYEVENT:FALSE
SUMMARY:Juice Plus+ Presents "How to incorporate stress management into your life"
DESCRIPTION:Join Juice Plus+ on May 15th for "How to incorporate Stress management into your life" with keynote speaker Vicki Langemo of Counseling for a Better Life! The seminar will be held at the American Legion\, 11640 Crooked Lake Blvd NW\, Coon Rapids at 7pm. Click here to read more.\n\n\n\nTo RSVP call Ester or Melvin 763.421.9039 or esterniska@comcast.net
X-ALT-DESC;FMTTYPE=text/html:<br />\n<span style="font-size: 11px\;"><span style="font-family: tahoma\;">Join Juice Plus+ on May <span>15th for</span> &quot\;How to incorporate Stress management into your life&quot\; with keynote speaker Vicki Langemo of Counseling for a Better Life! The seminar will be held at the American Legion\, 11640 Crooked Lake Blvd NW\, Coon Rapids at 7pm. Click <a href="http://cloud.chambermaster.com/userfiles/UserFiles/chambers/380/File/FlyerStressEvent5-15-12VickiLangemo.pdf">here</a> to read more.</span></span><br />\n<br />\n<span style="font-size:11px\;"><span style="font-family: tahoma\;">To RSVP call Ester or Melvin 763.421.9039 or <a href="mailto:esterniska@comcast.net?subject=Stress%20Management%20seminar">esterniska@comcast.net</a></span></span>
LOCATION:American Legion 11640 Crooked Lake Blvd NW Coon Rapids\, MN 55433
UID:e.380.143513
SEQUENCE:3
DTSTAMP:20260425T180437Z
URL:http://members.metronorthchamber.org/events/details/juice-plus-presents-how-to-incorporate-stress-management-into-your-life-05-15-2012-143513
END:VEVENT

END:VCALENDAR
