BEGIN:VCALENDAR
VERSION:2.0
PRODID:-//ChamberMaster//Event Calendar 2.0//EN
METHOD:PUBLISH
X-PUBLISHED-TTL:P3D
REFRESH-INTERVAL:P3D
CALSCALE:GREGORIAN
BEGIN:VEVENT
DTSTART:20170208T000000Z
DTEND:20170208T020000Z
X-MICROSOFT-CDO-ALLDAYEVENT:FALSE
SUMMARY:Jon Arfstrom art exhibit rotation opening reception
DESCRIPTION:Come enjoy more of Jon Arfstrom's art as we switch our collection items out to showcase new treasures. And food. We'll have food for you to enjoy.
X-ALT-DESC;FMTTYPE=text/html:<span style="font-family:times new roman">Come enjoy more of Jon Arfstrom&rsquo\;s art as we switch our collection items out to showcase new treasures. And food. We&rsquo\;ll have food for you to enjoy. </span>
LOCATION:Anoka County History Center 2135 Third Ave N Anoka\, MN 55303
UID:e.380.171444
SEQUENCE:3
DTSTAMP:20260421T203752Z
URL:http://members.metronorthchamber.org/events/details/jon-arfstrom-art-exhibit-rotation-opening-reception-171444
END:VEVENT

END:VCALENDAR
