BEGIN:VCALENDAR
VERSION:2.0
PRODID:-//ChamberMaster//Event Calendar 2.0//EN
METHOD:PUBLISH
X-PUBLISHED-TTL:P3D
REFRESH-INTERVAL:P3D
CALSCALE:GREGORIAN
BEGIN:VEVENT
DTSTART:20180427T160000Z
DTEND:20180428T000000Z
X-MICROSOFT-CDO-ALLDAYEVENT:FALSE
SUMMARY:Job Fair - Fleet Farm
DESCRIPTION:We offer:\n\n	Excellent wages\n	Part time receive an EXTRA $2.25/hr on Saturday\, Sunday and Holidays Worked\n	Full time receive Time and a Half on Sundays\n	10% Team Member discount\n	Flexible scheduling that fits YOUR life\n	Advancement opportunities\n	Discounts on cell phone carriers and gym memberships\n\n \n\nAPPLY TODAY!\n\njobs.fleetfarm.com\n\nMills Fleet Farm is an Equal Opportunity/M/F/Vet/Disabled Employer.\n\nJob Types: Full-time\, Part-time
X-ALT-DESC;FMTTYPE=text/html:<span style="color:black\;"><span style="font-family:arial\,sans-serif\;"><span style="font-size:12.0pt\;">We offer:</span></span></span>\n<ul>\n	<li style="margin-top:0in\;margin-right:0in\;margin-bottom:0in\;margin-bottom:.0001pt\;background:white\;"><span style="color:black\;"><span style="font-family:arial\,sans-serif\;"><span style="font-size:12.0pt\;">Excellent wages</span></span></span></li>\n	<li style="margin-top:0in\;margin-right:0in\;margin-bottom:0in\;margin-bottom:.0001pt\;background:white\;"><span style="color:black\;"><span style="font-family:arial\,sans-serif\;"><span style="font-size:12.0pt\;">Part time receive an&nbsp\;<strong>EXTRA</strong>&nbsp\;$2.25/hr on Saturday\, Sunday and Holidays Worked</span></span></span></li>\n	<li style="margin-top:0in\;margin-right:0in\;margin-bottom:0in\;margin-bottom:.0001pt\;background:white\;"><span style="color:black\;"><span style="font-family:arial\,sans-serif\;"><span style="font-size:12.0pt\;">Full time receive Time and a Half on Sundays</span></span></span></li>\n	<li style="margin-top:0in\;margin-right:0in\;margin-bottom:0in\;margin-bottom:.0001pt\;background:white\;"><span style="color:black\;"><span style="font-family:arial\,sans-serif\;"><span style="font-size:12.0pt\;">10% Team Member discount</span></span></span></li>\n	<li style="margin-top:0in\;margin-right:0in\;margin-bottom:0in\;margin-bottom:.0001pt\;background:white\;"><span style="color:black\;"><span style="font-family:arial\,sans-serif\;"><span style="font-size:12.0pt\;">Flexible scheduling that fits&nbsp\;<strong>YOUR</strong>&nbsp\;life</span></span></span></li>\n	<li style="margin-top:0in\;margin-right:0in\;margin-bottom:0in\;margin-bottom:.0001pt\;background:white\;"><span style="color:black\;"><span style="font-family:arial\,sans-serif\;"><span style="font-size:12.0pt\;">Advancement opportunities</span></span></span></li>\n	<li style="margin-top:0in\;margin-right:0in\;margin-bottom:0in\;margin-bottom:.0001pt\;background:white\;"><span style="color:black\;"><span style="font-family:arial\,sans-serif\;"><span style="font-size:12.0pt\;">Discounts on cell phone carriers and gym memberships</span></span></span></li>\n</ul>\n&nbsp\;<br />\n<span style="color:black\;"><span style="font-family:arial\,sans-serif\;"><span style="font-size:12.0pt\;">APPLY TODAY!</span></span></span><br />\n<span style="color:black\;"><span style="font-family:arial\,sans-serif\;"><span style="font-size:12.0pt\;">jobs.fleetfarm.com</span></span></span><br />\n<span style="color:black\;"><span style="font-family:arial\,sans-serif\;"><span style="font-size:12.0pt\;">Mills Fleet Farm is an Equal Opportunity/M/F/Vet/Disabled Employer.</span></span></span><br />\n<span style="color:black\;"><span style="font-family:arial\,sans-serif\;"><span style="font-size:12.0pt\;">Job Types: Full-time\, Part-time</span></span></span>
LOCATION:Mills Fleet Farm 10250 Lexington Ave NE Blaine\, MN 55014 Online applications encouraged! Walk-ins are welcomed.
UID:e.380.184797
SEQUENCE:3
DTSTAMP:20260420T231037Z
URL:http://members.metronorthchamber.org/events/details/job-fair-fleet-farm-184797
END:VEVENT

END:VCALENDAR
