BEGIN:VCALENDAR
VERSION:2.0
PRODID:-//ChamberMaster//Event Calendar 2.0//EN
METHOD:PUBLISH
X-PUBLISHED-TTL:P3D
REFRESH-INTERVAL:P3D
CALSCALE:GREGORIAN
BEGIN:VEVENT
DTSTART:20181013T180000Z
DTEND:20181013T210000Z
X-MICROSOFT-CDO-ALLDAYEVENT:FALSE
SUMMARY:Job Fair at Northtown Mall
DESCRIPTION:Job Fair at Northtown Mall\n\nSaturday\, October 13th from 1-4pm.\n\nThis job fair is open to all categories of employers currently looking for employees. If your company would like to participate please contact Linda at Linda.Sell@washingtonprime.com for details.
X-ALT-DESC;FMTTYPE=text/html:<p><span style="font-size:20px"><strong>Job Fair at Northtown Mall</strong></span></p>\n\n<p><span style="font-size:14px"><em>Saturday\, October 13th from 1-4pm.</em></span></p>\n\n<p>This job fair is open to all categories of employers currently looking for employees.&nbsp\;If your company would like to participate please contact Linda at Linda.Sell@washingtonprime.com for details.</p>\n
LOCATION:Northtown Mall Center Court Area Northtown Mall 398 Northtown Drive Blaine\, MN 55434
UID:e.380.187116
SEQUENCE:3
DTSTAMP:20260420T141007Z
URL:http://members.metronorthchamber.org/events/details/job-fair-at-northtown-mall-10-13-2018-187116
END:VEVENT

END:VCALENDAR
