BEGIN:VCALENDAR
VERSION:2.0
PRODID:-//ChamberMaster//Event Calendar 2.0//EN
METHOD:PUBLISH
X-PUBLISHED-TTL:P3D
REFRESH-INTERVAL:P3D
CALSCALE:GREGORIAN
BEGIN:VEVENT
DTSTART:20190908T150000Z
DTEND:20190908T230000Z
X-MICROSOFT-CDO-ALLDAYEVENT:FALSE
SUMMARY:Job Fair
DESCRIPTION:Job Fair on September 8th from 10am-6pm.  Walk in interviews for all Departments.
X-ALT-DESC;FMTTYPE=text/html:Job Fair on September 8th from 10am-6pm.&nbsp\; Walk in interviews for all Departments.
LOCATION:Majestic Oaks Golf Club 701 Bunker Lake Blvd NE Ham Lake MN 55304
UID:e.380.191021
SEQUENCE:3
DTSTAMP:20260419T193054Z
URL:http://members.metronorthchamber.org/events/details/job-fair-191021
END:VEVENT

END:VCALENDAR
