BEGIN:VCALENDAR
VERSION:2.0
PRODID:-//ChamberMaster//Event Calendar 2.0//EN
METHOD:PUBLISH
X-PUBLISHED-TTL:P3D
REFRESH-INTERVAL:P3D
CALSCALE:GREGORIAN
BEGIN:VEVENT
DTSTART:20161027T223000Z
DTEND:20161028T000000Z
X-MICROSOFT-CDO-ALLDAYEVENT:FALSE
SUMMARY:Jam Hops Skill Clinic
DESCRIPTION:Come learn some fun back tumbling skills!
X-ALT-DESC;FMTTYPE=text/html:Come learn some fun back tumbling skills!
LOCATION:14216 Lincoln St. NE\, Ham Lake
UID:e.380.169863
SEQUENCE:3
DTSTAMP:20260422T052113Z
URL:http://members.metronorthchamber.org/events/details/jam-hops-skill-clinic-10-27-2016-169863
END:VEVENT

END:VCALENDAR
