BEGIN:VCALENDAR
VERSION:2.0
PRODID:-//ChamberMaster//Event Calendar 2.0//EN
METHOD:PUBLISH
X-PUBLISHED-TTL:P3D
REFRESH-INTERVAL:P3D
CALSCALE:GREGORIAN
BEGIN:VEVENT
DTSTART:20170121T233000Z
DTEND:20170122T010000Z
X-MICROSOFT-CDO-ALLDAYEVENT:FALSE
SUMMARY:Jam Hops Skill Clinic
DESCRIPTION:Pullovers/Bars Basics
X-ALT-DESC;FMTTYPE=text/html:Pullovers/Bars Basics
LOCATION:14216 Lincoln St. NE\, Ham Lake
UID:e.380.170567
SEQUENCE:3
DTSTAMP:20260421T221022Z
URL:http://members.metronorthchamber.org/events/details/jam-hops-skill-clinic-01-21-2017-170567
END:VEVENT

END:VCALENDAR
