BEGIN:VCALENDAR
VERSION:2.0
PRODID:-//ChamberMaster//Event Calendar 2.0//EN
METHOD:PUBLISH
X-PUBLISHED-TTL:P3D
REFRESH-INTERVAL:P3D
CALSCALE:GREGORIAN
BEGIN:VEVENT
DTSTART:20170211T203000Z
DTEND:20170211T220000Z
X-MICROSOFT-CDO-ALLDAYEVENT:FALSE
SUMMARY:Jam Hops Preschool Valentine's Party
DESCRIPTION:Bring your preschooler to Jam Hops for a fun Valentine's Party!
X-ALT-DESC;FMTTYPE=text/html:Bring your preschooler to Jam Hops for a fun Valentine&#39\;s Party!
LOCATION:14216 Lincoln St. NE\, Ham Lake
UID:e.380.171447
SEQUENCE:3
DTSTAMP:20260421T204020Z
URL:http://members.metronorthchamber.org/events/details/jam-hops-preschool-valentine-s-party-171447
END:VEVENT

END:VCALENDAR
