BEGIN:VCALENDAR
VERSION:2.0
PRODID:-//ChamberMaster//Event Calendar 2.0//EN
METHOD:PUBLISH
X-PUBLISHED-TTL:P3D
REFRESH-INTERVAL:P3D
CALSCALE:GREGORIAN
BEGIN:VEVENT
DTSTART:20170227T233000Z
DTEND:20170228T010000Z
X-MICROSOFT-CDO-ALLDAYEVENT:FALSE
SUMMARY:Jam Hops Preschool Open House
DESCRIPTION:This is a night to come meet our acadamic preschool teachers!
X-ALT-DESC;FMTTYPE=text/html:This is a night to come meet our acadamic preschool teachers!
LOCATION:14216 Lincoln St. NE\, Ham Lake
UID:e.380.171452
SEQUENCE:3
DTSTAMP:20260421T221117Z
URL:http://members.metronorthchamber.org/events/details/jam-hops-preschool-open-house-171452
END:VEVENT

END:VCALENDAR
