BEGIN:VCALENDAR
VERSION:2.0
PRODID:-//ChamberMaster//Event Calendar 2.0//EN
METHOD:PUBLISH
X-PUBLISHED-TTL:P3D
REFRESH-INTERVAL:P3D
CALSCALE:GREGORIAN
BEGIN:VEVENT
DTSTART:20161029T203000Z
DTEND:20161029T220000Z
X-MICROSOFT-CDO-ALLDAYEVENT:FALSE
SUMMARY:Jam Hops Preschool Halloween Party
DESCRIPTION:Wear your costume and have fun at Jam Hops.
X-ALT-DESC;FMTTYPE=text/html:Wear your costume and have fun at Jam Hops.
LOCATION:14216 Lincoln St. NE\, Ham Lake
UID:e.380.169495
SEQUENCE:3
DTSTAMP:20260422T033405Z
URL:http://members.metronorthchamber.org/events/details/jam-hops-preschool-halloween-party-169495
END:VEVENT

END:VCALENDAR
