BEGIN:VCALENDAR
VERSION:2.0
PRODID:-//ChamberMaster//Event Calendar 2.0//EN
METHOD:PUBLISH
X-PUBLISHED-TTL:P3D
REFRESH-INTERVAL:P3D
CALSCALE:GREGORIAN
BEGIN:VEVENT
DTSTART:20171028T203000Z
DTEND:20171028T220000Z
X-MICROSOFT-CDO-ALLDAYEVENT:FALSE
SUMMARY:Jam Hops Preschool Halloween Party
DESCRIPTION:Bring kids in their costumes for Halloween fun!
X-ALT-DESC;FMTTYPE=text/html:Bring kids in their costumes for Halloween fun!
LOCATION:1460 133rd Lane NE\, Ham Lake
UID:e.380.178990
SEQUENCE:3
DTSTAMP:20260421T082734Z
URL:http://members.metronorthchamber.org/events/details/jam-hops-preschool-halloween-party-10-28-2017-178990
END:VEVENT

END:VCALENDAR
