BEGIN:VCALENDAR
VERSION:2.0
PRODID:-//ChamberMaster//Event Calendar 2.0//EN
METHOD:PUBLISH
X-PUBLISHED-TTL:P3D
REFRESH-INTERVAL:P3D
CALSCALE:GREGORIAN
BEGIN:VEVENT
DTSTART:20160319T140000Z
DTEND:20160319T170000Z
X-MICROSOFT-CDO-ALLDAYEVENT:FALSE
SUMMARY:Jam Hops Preschool Easter Party
DESCRIPTION:Come for a fun indoor Easter Egg hunt for ages 3-6!
X-ALT-DESC;FMTTYPE=text/html:Come for a fun indoor Easter Egg hunt for ages 3-6!
LOCATION:14216 Lincoln St. NE\, Ham Lake
UID:e.380.165094
SEQUENCE:3
DTSTAMP:20260422T163248Z
URL:http://members.metronorthchamber.org/events/details/jam-hops-preschool-easter-party-03-19-2016-165094
END:VEVENT

END:VCALENDAR
