BEGIN:VCALENDAR
VERSION:2.0
PRODID:-//ChamberMaster//Event Calendar 2.0//EN
METHOD:PUBLISH
X-PUBLISHED-TTL:P3D
REFRESH-INTERVAL:P3D
CALSCALE:GREGORIAN
BEGIN:VEVENT
DTSTART:20170220T150000Z
DTEND:20170221T180000Z
X-MICROSOFT-CDO-ALLDAYEVENT:FALSE
SUMMARY:Jam Hops Preschool Camp
DESCRIPTION:Bring your preschooler to Jam Hops for lots of fun doing gymnastics\, crafts\, games and more!
X-ALT-DESC;FMTTYPE=text/html:Bring your preschooler to Jam Hops for lots of fun doing gymnastics\, crafts\, games and more!
LOCATION:14216 Lincoln St. NE\, Ham Lake
UID:e.380.171448
SEQUENCE:3
DTSTAMP:20260421T203611Z
URL:http://members.metronorthchamber.org/events/details/jam-hops-preschool-camp-02-20-2017-171448
END:VEVENT

END:VCALENDAR
