BEGIN:VCALENDAR
VERSION:2.0
PRODID:-//ChamberMaster//Event Calendar 2.0//EN
METHOD:PUBLISH
X-PUBLISHED-TTL:P3D
REFRESH-INTERVAL:P3D
CALSCALE:GREGORIAN
BEGIN:VEVENT
DTSTART:20191118T003000Z
DTEND:20191118T020000Z
X-MICROSOFT-CDO-ALLDAYEVENT:FALSE
SUMMARY:Jam Hops Open House
DESCRIPTION:Our FREE Open House activities will be:\n\n\n	Inflatables\n	Cookies\n	Face painting and tattoos\n	Jumping in our foam pits and on our trampolines\n	Climb the ropes\n	Try out our Ninja obstacle course and warped wall\n	Glow in the dark dance party\n	Tigger will be here!\n\n\nRegister for any of our classes in person during our open house and receive special DISCOUNTS and PRIZES!\n\nCurrent members - bring a friend to open house! When a new family registers and mentions your name you will be entered into the prize drawing and receive a DOUBLE REFERRAL BONUS ($60).
X-ALT-DESC;FMTTYPE=text/html:<p><strong>Our FREE Open House&nbsp\;activities will be:</strong></p>\n\n<ul>\n	<li>Inflatables</li>\n	<li>Cookies</li>\n	<li>Face painting and tattoos</li>\n	<li>Jumping in our foam pits and on our trampolines</li>\n	<li>Climb the ropes</li>\n	<li>Try out our Ninja obstacle course and warped wall</li>\n	<li>Glow in the dark dance party</li>\n	<li>Tigger will be here!</li>\n</ul>\n\n<p>Register for any of our classes in person during our open house and receive special DISCOUNTS and PRIZES!</p>\n\n<p>Current members - bring a friend to open house! When a new family registers and mentions your name you will be entered into the prize drawing and receive a DOUBLE REFERRAL BONUS ($60).</p>\n
LOCATION:1460 133rd Lane NE\, Ham Lake
UID:e.380.191637
SEQUENCE:3
DTSTAMP:20260419T160758Z
URL:http://members.metronorthchamber.org/events/details/jam-hops-open-house-191637
END:VEVENT

END:VCALENDAR
