BEGIN:VCALENDAR
VERSION:2.0
PRODID:-//ChamberMaster//Event Calendar 2.0//EN
METHOD:PUBLISH
X-PUBLISHED-TTL:P3D
REFRESH-INTERVAL:P3D
CALSCALE:GREGORIAN
BEGIN:VEVENT
DTSTART:20160826T220000Z
DTEND:20160827T000000Z
X-MICROSOFT-CDO-ALLDAYEVENT:FALSE
SUMMARY:Jam Hops Open House
DESCRIPTION:Come to Jam Hops to see all the programs we have to offer.  FREE games\, prizes\, ice cream\, bounce house and more!
X-ALT-DESC;FMTTYPE=text/html:Come to Jam Hops to see all the programs we have to offer.&nbsp\; FREE games\, prizes\, ice cream\, bounce house and more!
LOCATION:14216 Lincoln St. NE Ham Lake\, MN 55304
UID:e.380.169162
SEQUENCE:3
DTSTAMP:20260422T070230Z
URL:http://members.metronorthchamber.org/events/details/jam-hops-open-house-08-26-2016-169162
END:VEVENT

END:VCALENDAR
