BEGIN:VCALENDAR
VERSION:2.0
PRODID:-//ChamberMaster//Event Calendar 2.0//EN
METHOD:PUBLISH
X-PUBLISHED-TTL:P3D
REFRESH-INTERVAL:P3D
CALSCALE:GREGORIAN
BEGIN:VEVENT
DTSTART:20161229T000000Z
DTEND:20161229T020000Z
X-MICROSOFT-CDO-ALLDAYEVENT:FALSE
SUMMARY:Jam Hops Ninja Kidz Clinic
DESCRIPTION:We will have an obstacle course set up Nijna Warrior style - kid sized of course!
X-ALT-DESC;FMTTYPE=text/html:We will have an obstacle course set up Nijna Warrior style - kid sized of course!
LOCATION:14216 Lincoln St. NE\, Ham Lake
UID:e.380.170570
SEQUENCE:3
DTSTAMP:20260421T235401Z
URL:http://members.metronorthchamber.org/events/details/jam-hops-ninja-kidz-clinic-170570
END:VEVENT

END:VCALENDAR
