BEGIN:VCALENDAR
VERSION:2.0
PRODID:-//ChamberMaster//Event Calendar 2.0//EN
METHOD:PUBLISH
X-PUBLISHED-TTL:P3D
REFRESH-INTERVAL:P3D
CALSCALE:GREGORIAN
BEGIN:VEVENT
DTSTART:20171028T213000Z
DTEND:20171028T230000Z
X-MICROSOFT-CDO-ALLDAYEVENT:FALSE
SUMMARY:Jam Hops Ninja Kidz Clinic
DESCRIPTION:Ninja Clinic - come learn how to do our Ninja obstacles!
X-ALT-DESC;FMTTYPE=text/html:Ninja Clinic - come learn how to do our Ninja obstacles!
LOCATION:1460 133rd Lane NE\, Ham Lake
UID:e.380.178992
SEQUENCE:3
DTSTAMP:20260421T084152Z
URL:http://members.metronorthchamber.org/events/details/jam-hops-ninja-kidz-clinic-10-28-2017-178992
END:VEVENT

END:VCALENDAR
