BEGIN:VCALENDAR
VERSION:2.0
PRODID:-//ChamberMaster//Event Calendar 2.0//EN
METHOD:PUBLISH
X-PUBLISHED-TTL:P3D
REFRESH-INTERVAL:P3D
CALSCALE:GREGORIAN
BEGIN:VEVENT
DTSTART:20170916T204500Z
DTEND:20170916T221500Z
X-MICROSOFT-CDO-ALLDAYEVENT:FALSE
SUMMARY:Jam Hops Ninja Kidz Clinic
DESCRIPTION:Come have fun being a Ninja on our Ninja Obstacle Course!
X-ALT-DESC;FMTTYPE=text/html:Come have fun being a Ninja on our Ninja Obstacle Course!
LOCATION:14216 Lincoln St. NE\, Ham Lake
UID:e.380.176470
SEQUENCE:3
DTSTAMP:20260421T124013Z
URL:http://members.metronorthchamber.org/events/details/jam-hops-ninja-kidz-clinic-09-16-2017-176470
END:VEVENT

END:VCALENDAR
