BEGIN:VCALENDAR
VERSION:2.0
PRODID:-//ChamberMaster//Event Calendar 2.0//EN
METHOD:PUBLISH
X-PUBLISHED-TTL:P3D
REFRESH-INTERVAL:P3D
CALSCALE:GREGORIAN
BEGIN:VEVENT
DTSTART:20170304T211500Z
DTEND:20170304T231500Z
X-MICROSOFT-CDO-ALLDAYEVENT:FALSE
SUMMARY:Jam Hops Ninja Kidz Clinic
DESCRIPTION:We will have a Ninja obstacle course set up to test your strenght and agility.
X-ALT-DESC;FMTTYPE=text/html:We will have a Ninja obstacle course set up to test your strenght and agility.
LOCATION:14216 Lincoln St. NE\, Ham Lake
UID:e.380.171507
SEQUENCE:3
DTSTAMP:20260421T184438Z
URL:http://members.metronorthchamber.org/events/details/jam-hops-ninja-kidz-clinic-03-04-2017-171507
END:VEVENT

END:VCALENDAR
