BEGIN:VCALENDAR
VERSION:2.0
PRODID:-//ChamberMaster//Event Calendar 2.0//EN
METHOD:PUBLISH
X-PUBLISHED-TTL:P3D
REFRESH-INTERVAL:P3D
CALSCALE:GREGORIAN
BEGIN:VEVENT
DTSTART:20171118T233000Z
DTEND:20171119T010000Z
X-MICROSOFT-CDO-ALLDAYEVENT:FALSE
SUMMARY:Jam Hops Ninja Clinic
DESCRIPTION:Come test your strength and agility! Our gym will be set up as a ninja obstacle course. Our trained staff will instruct and guide you through the course. Ages 6 and up.
X-ALT-DESC;FMTTYPE=text/html:<span style="color:#000000"><span style="font-size:14px"><span style="font-family:arial\,helvetica\,sans-serif">Come test your strength and agility! Our gym will be set up as a ninja obstacle course. Our trained staff will instruct and guide you through the course. Ages 6 and up.</span></span></span>
LOCATION:1460 133rd Lane NE\, Ham Lake
UID:e.380.179153
SEQUENCE:3
DTSTAMP:20260421T070549Z
URL:http://members.metronorthchamber.org/events/details/jam-hops-ninja-clinic-179153
END:VEVENT

END:VCALENDAR
