BEGIN:VCALENDAR
VERSION:2.0
PRODID:-//ChamberMaster//Event Calendar 2.0//EN
METHOD:PUBLISH
X-PUBLISHED-TTL:P3D
REFRESH-INTERVAL:P3D
CALSCALE:GREGORIAN
BEGIN:VEVENT
DTSTART:20180421T223000Z
DTEND:20180422T000000Z
X-MICROSOFT-CDO-ALLDAYEVENT:FALSE
SUMMARY:Jam Hops Ninja Clinic
DESCRIPTION:Come test your strength and agility! Our gym will be set up as a ninja obstacle course. Our trained staff will instruct and guide you through the course. Ages 6 and up.
X-ALT-DESC;FMTTYPE=text/html:<p>Come test your strength and agility! Our gym will be set up as a ninja obstacle course. Our trained staff will instruct and guide you through the course. Ages 6 and up.</p>\n
LOCATION:1460 133rd LN NE\, Ham Lake\, MN 55304
UID:e.380.180308
SEQUENCE:3
DTSTAMP:20260420T230740Z
URL:http://members.metronorthchamber.org/events/details/jam-hops-ninja-clinic-04-21-2018-180308
END:VEVENT

END:VCALENDAR
