BEGIN:VCALENDAR
VERSION:2.0
PRODID:-//ChamberMaster//Event Calendar 2.0//EN
METHOD:PUBLISH
X-PUBLISHED-TTL:P3D
REFRESH-INTERVAL:P3D
CALSCALE:GREGORIAN
BEGIN:VEVENT
DTSTART:20170226T010000Z
DTEND:20170226T040000Z
X-MICROSOFT-CDO-ALLDAYEVENT:FALSE
SUMMARY:Jam Hops Nerf Kidz War Night
DESCRIPTION:Bring your kids ages 8-12 to have fun with Nerf gun activities. We provide the Nerf guns and protective eyewear. Children are not allowed to bring their own Nerf guns.
X-ALT-DESC;FMTTYPE=text/html:Bring your kids ages 8-12 to have fun with Nerf gun activities. We provide the Nerf guns and protective eyewear. Children are not allowed to bring their own Nerf guns.
LOCATION:14216 Lincoln St. NE\, Ham Lake
UID:e.380.171451
SEQUENCE:3
DTSTAMP:20260421T221022Z
URL:http://members.metronorthchamber.org/events/details/jam-hops-nerf-kidz-war-night-171451
END:VEVENT

END:VCALENDAR
