BEGIN:VCALENDAR
VERSION:2.0
PRODID:-//ChamberMaster//Event Calendar 2.0//EN
METHOD:PUBLISH
X-PUBLISHED-TTL:P3D
REFRESH-INTERVAL:P3D
CALSCALE:GREGORIAN
BEGIN:VEVENT
DTSTART:20171022T000000Z
DTEND:20171022T030000Z
X-MICROSOFT-CDO-ALLDAYEVENT:FALSE
SUMMARY:Jam Hops Nerf Kidz War Night
DESCRIPTION:Bring your kids ages 8-12 to play Nerf Gun games and have open gym time!
X-ALT-DESC;FMTTYPE=text/html:Bring your kids ages 8-12 to play Nerf Gun games and have open gym time!
LOCATION:1460 133rd Lane NE\, Ham Lake
UID:e.380.178989
SEQUENCE:3
DTSTAMP:20260421T082150Z
URL:http://members.metronorthchamber.org/events/details/jam-hops-nerf-kidz-war-night-10-21-2017-178989
END:VEVENT

END:VCALENDAR
