BEGIN:VCALENDAR
VERSION:2.0
PRODID:-//ChamberMaster//Event Calendar 2.0//EN
METHOD:PUBLISH
X-PUBLISHED-TTL:P3D
REFRESH-INTERVAL:P3D
CALSCALE:GREGORIAN
BEGIN:VEVENT
DTSTART:20170917T000000Z
DTEND:20170917T030000Z
X-MICROSOFT-CDO-ALLDAYEVENT:FALSE
SUMMARY:Jam Hops Nerf Kidz War Night
DESCRIPTION:All kids ages 8 -12 can come play Nerf War games and have Open Gym time!
X-ALT-DESC;FMTTYPE=text/html:All kids ages 8 -12 can come play Nerf War games and have Open Gym time!
LOCATION:14216 Lincoln St. NE\, Ham Lake
UID:e.380.176473
SEQUENCE:3
DTSTAMP:20260421T110041Z
URL:http://members.metronorthchamber.org/events/details/jam-hops-nerf-kidz-war-night-09-16-2017-176473
END:VEVENT

END:VCALENDAR
