BEGIN:VCALENDAR
VERSION:2.0
PRODID:-//ChamberMaster//Event Calendar 2.0//EN
METHOD:PUBLISH
X-PUBLISHED-TTL:P3D
REFRESH-INTERVAL:P3D
CALSCALE:GREGORIAN
BEGIN:VEVENT
DTSTART:20170514T000000Z
DTEND:20170514T030000Z
X-MICROSOFT-CDO-ALLDAYEVENT:FALSE
SUMMARY:Jam Hops Nerf Kidz War Night
DESCRIPTION:Bring your kids ages 8-12 to have fun with Nerf games! We provide the Nerf guns\, darts\, and safety glasses.
X-ALT-DESC;FMTTYPE=text/html:Bring your kids ages 8-12 to have fun with Nerf games! We provide the Nerf guns\, darts\, and safety glasses.
LOCATION:14216 Lincoln St. NE\, Ham Lake
UID:e.380.175028
SEQUENCE:3
DTSTAMP:20260421T170335Z
URL:http://members.metronorthchamber.org/events/details/jam-hops-nerf-kidz-war-night-05-13-2017-175028
END:VEVENT

END:VCALENDAR
