BEGIN:VCALENDAR
VERSION:2.0
PRODID:-//ChamberMaster//Event Calendar 2.0//EN
METHOD:PUBLISH
X-PUBLISHED-TTL:P3D
REFRESH-INTERVAL:P3D
CALSCALE:GREGORIAN
BEGIN:VEVENT
DTSTART:20170326T000000Z
DTEND:20170326T030000Z
X-MICROSOFT-CDO-ALLDAYEVENT:FALSE
SUMMARY:Jam Hops Nerf Kidz War Night
DESCRIPTION:The kids will do Nerf activities and have open gym time. We will provide the Nerf guns and protective eyewear.
X-ALT-DESC;FMTTYPE=text/html:The kids will do Nerf activities and have open gym time. We will provide the Nerf guns and protective eyewear.<br />\n&nbsp\;
LOCATION:14216 Lincoln St. NE\, Ham Lake
UID:e.380.171510
SEQUENCE:3
DTSTAMP:20260421T202854Z
URL:http://members.metronorthchamber.org/events/details/jam-hops-nerf-kidz-war-night-03-25-2017-171510
END:VEVENT

END:VCALENDAR
