BEGIN:VCALENDAR
VERSION:2.0
PRODID:-//ChamberMaster//Event Calendar 2.0//EN
METHOD:PUBLISH
X-PUBLISHED-TTL:P3D
REFRESH-INTERVAL:P3D
CALSCALE:GREGORIAN
BEGIN:VEVENT
DTSTART:20171217T010000Z
DTEND:20171217T040000Z
X-MICROSOFT-CDO-ALLDAYEVENT:FALSE
SUMMARY:Jam Hops Nerf Kidz Night
DESCRIPTION:Bring your kids ages 8-12 to play Nerf Gun games and have open gym time!
X-ALT-DESC;FMTTYPE=text/html:Bring your kids ages 8-12 to play Nerf Gun games and have open gym time!
LOCATION:1460 133rd Lane NE\, Ham Lake
UID:e.380.179164
SEQUENCE:3
DTSTAMP:20260421T050826Z
URL:http://members.metronorthchamber.org/events/details/jam-hops-nerf-kidz-night-179164
END:VEVENT

END:VCALENDAR
