BEGIN:VCALENDAR
VERSION:2.0
PRODID:-//ChamberMaster//Event Calendar 2.0//EN
METHOD:PUBLISH
X-PUBLISHED-TTL:P3D
REFRESH-INTERVAL:P3D
CALSCALE:GREGORIAN
BEGIN:VEVENT
DTSTART:20180513T000000Z
DTEND:20180513T030000Z
X-MICROSOFT-CDO-ALLDAYEVENT:FALSE
SUMMARY:Jam Hops Nerf Kidz Night
DESCRIPTION:Bring your kids ages 8-14 to play Nerf Gun games and have open gym time!
X-ALT-DESC;FMTTYPE=text/html:<p>Bring your kids ages 8-14 to play Nerf Gun games and have open gym time!</p>\n
LOCATION:1460 133rd LN NE\, Ham Lake\, MN 55304
UID:e.380.184809
SEQUENCE:3
DTSTAMP:20260420T212621Z
URL:http://members.metronorthchamber.org/events/details/jam-hops-nerf-kidz-night-05-12-2018-184809
END:VEVENT

END:VCALENDAR
